BEGIN:VCALENDAR
VERSION:2.0
PRODID:-//GOEES - ECPv6.15.20//NONSGML v1.0//EN
CALSCALE:GREGORIAN
METHOD:PUBLISH
X-ORIGINAL-URL:https://www.goees.fr
X-WR-CALDESC:Évènements pour GOEES
REFRESH-INTERVAL;VALUE=DURATION:PT1H
X-Robots-Tag:noindex
X-PUBLISHED-TTL:PT1H
BEGIN:VTIMEZONE
TZID:UTC
BEGIN:STANDARD
TZOFFSETFROM:+0000
TZOFFSETTO:+0000
TZNAME:UTC
DTSTART:20250101T000000
END:STANDARD
END:VTIMEZONE
BEGIN:VEVENT
DTSTART;TZID=UTC:20260617T090000
DTEND;TZID=UTC:20260617T180000
DTSTAMP:20260421T094749
CREATED:20260220T183415Z
LAST-MODIFIED:20260220T183503Z
UID:2967-1781686800-1781719200@www.goees.fr
SUMMARY:Salon Restau'Co
DESCRIPTION:
URL:https://www.goees.fr/event/salon-restauco-2/
LOCATION:Porte de Versailles\, Paris Expo Porte de Versailles Place de la Porte de Versailles\, Paris\, 75015
ATTACH;FMTTYPE=image/jpeg:https://www.goees.fr/wp-content/uploads/2026/02/signature-restauco-2026.jpg
END:VEVENT
BEGIN:VEVENT
DTSTART;VALUE=DATE:20260704
DTEND;VALUE=DATE:20260705
DTSTAMP:20260421T094749
CREATED:20260220T184039Z
LAST-MODIFIED:20260220T190506Z
UID:2971-1783123200-1783209599@www.goees.fr
SUMMARY:Le Mondial La Marseillaise à pétanque des CSE
DESCRIPTION:
URL:https://www.goees.fr/event/le-mondial-la-marseillaise-la-petanque-des-cse/
LOCATION:Parc borely\, Parc Borely\, Marseille\, 13000\, France
ATTACH;FMTTYPE=image/png:https://www.goees.fr/wp-content/uploads/2026/02/Mondial.png
END:VEVENT
END:VCALENDAR