BEGIN:VCALENDAR
VERSION:2.0
PRODID:-//GOEES - ECPv6.15.20//NONSGML v1.0//EN
CALSCALE:GREGORIAN
METHOD:PUBLISH
X-ORIGINAL-URL:https://www.goees.fr
X-WR-CALDESC:Évènements pour GOEES
REFRESH-INTERVAL;VALUE=DURATION:PT1H
X-Robots-Tag:noindex
X-PUBLISHED-TTL:PT1H
BEGIN:VTIMEZONE
TZID:UTC
BEGIN:STANDARD
TZOFFSETFROM:+0000
TZOFFSETTO:+0000
TZNAME:UTC
DTSTART:20210101T000000
END:STANDARD
END:VTIMEZONE
BEGIN:VEVENT
DTSTART;VALUE=DATE:20221027
DTEND;VALUE=DATE:20221228
DTSTAMP:20260422T071515
CREATED:20221027T144825Z
LAST-MODIFIED:20221027T144825Z
UID:2370-1666828800-1672185599@www.goees.fr
SUMMARY:Le CASI (Comité d’Activités Sociales Inter-entreprises) des cheminots de la région de Montpellier recrute
DESCRIPTION:Le CASI (Comité d’Activités Sociales Inter-entreprises) des cheminots de la région de\nMontpellier\, souhaite adapter ses moyens en personnel à ses besoins de\nfonctionnement. \nIl a donc été décidé de créer un poste dédié spécifiquement à la gestion des\nressources humaines. \nLe poste de Responsable des Ressources Humaines est situé à Montpellier.\nIl s’agit d’un contrat à durée indéterminée à temps plein (35 h). \nC’est un poste d’agent de maîtrise 4\, comme prévu par l’Accord Collectif National des\npersonnels des Comités sociaux et économiques\, des Comités des activités sociales\ninterentreprises et de l’Instance Commune\, dite CCGPF\, du 29 novembre 2021. \n➢ Description du poste :\n✓ Métier dans le domaine des activités sociales et culturelles à destination de\nsalarié.es (cheminot.es)\, dans le domaine de l’économie sociale et solidaire ;\n✓ Responsable RH ;\n✓ En charge de la gestion et l’organisation du travail ;\n✓ En charge de la réalisation des entretiens du personnel ;\n✓ Réalisation des procédures d’embauches et de départs ;\n✓ Création d’un projet d’amélioration des conditions de travail ;\n✓ Participation à la réalisation des fiches de paie ;\n✓ Contrôle et mise à jour des paramètres et des données de paie ;\n✓ Participation aux instances représentatives du personnel ;\n✓ Conduite des négociations. \n➢ Profil recherché :\n✓ Femme ou homme diplômé niveau 2 de l’Éducation Nationale\, avec ou sans\nexpérience dans le domaine de l’ESS ;\n✓ Capable de gérer le travail collectif et de mettre en œuvre des décisions ;\n✓ Maîtrise de la prise de parole en public ;\n✓ Maîtrise de la gestion des conflits ;\n✓ Connaissance du droit social. \nSalaire compris entre 25 000 et 35 000 € brut annuel \nCONTACT : Monsieur MARTINEZ Joffrey\, Secrétaire du CASI.\n06 42 00 37 35\njoffreymartinez@live.fr
URL:https://www.goees.fr/event/le-casi-comite-dactivites-sociales-inter-entreprises-des-cheminots-de-la-region-de-montpellier-recrute/
ATTACH;FMTTYPE=image/png:https://www.goees.fr/wp-content/uploads/2021/06/offre-demploi-e1634062287550.png
END:VEVENT
END:VCALENDAR