BEGIN:VCALENDAR
VERSION:2.0
PRODID:-//GOEES - ECPv6.15.20//NONSGML v1.0//EN
CALSCALE:GREGORIAN
METHOD:PUBLISH
X-ORIGINAL-URL:https://www.goees.fr
X-WR-CALDESC:Évènements pour GOEES
REFRESH-INTERVAL;VALUE=DURATION:PT1H
X-Robots-Tag:noindex
X-PUBLISHED-TTL:PT1H
BEGIN:VTIMEZONE
TZID:UTC
BEGIN:STANDARD
TZOFFSETFROM:+0000
TZOFFSETTO:+0000
TZNAME:UTC
DTSTART:20220101T000000
END:STANDARD
END:VTIMEZONE
BEGIN:VEVENT
DTSTART;VALUE=DATE:20230128
DTEND;VALUE=DATE:20240101
DTSTAMP:20260422T024002
CREATED:20230310T100800Z
LAST-MODIFIED:20230626T124653Z
UID:2435-1674864000-1704067199@www.goees.fr
SUMMARY:Catalogue formation
DESCRIPTION:Découvrez notre catalogue formation 2023 ! \n  \nDepuis 2015 nous avons mis en place le fonds formation GOEES : un fonds volontaire et mutualisé\, destiné à financer les formations professionnelles de nos adhérents lorsqu’aucun dispositifs légaux ne le permettent. \nEn 2023 nous vous proposons un catalogue formation : recueil de formations sous différentes thématiques (gouvernance\, restauration\, communication\, management\, tourisme social\, accueil handicap…) en réponse aux problématiques et besoins de nos adhérents. \nCe catalogue résulte d’un travail en collaboration avec nos partenaires et propose uniquement des formations certifiées Qualiopi\, qui permettent donc de faire une demande de prise en charge. \n  \nVous retrouverez toutes les explications relatives à Réso’Formations (fonctionnement et catalogue) sur notre page dédiée. \n  \n  \nSuite à nos deux ateliers du 23 février et 16 juin derniers sur la formation professionnelle et l’emploi\, de nouvelles fiches outils sont disponibles en téléchargement sur notre site pour vous présenter des dispositifs d’accompagnement à la formation professionnelle de personnes que vous souhaiteriez embaucher par la suite. A retrouver également sur notre page Réso’Formations. \n  \n  \n 
URL:https://www.goees.fr/event/catalogue-formation/
ATTACH;FMTTYPE=image/png:https://www.goees.fr/wp-content/uploads/2023/02/Visuel-atelier-formation-Goees.png
END:VEVENT
BEGIN:VEVENT
DTSTART;VALUE=DATE:20230131
DTEND;VALUE=DATE:20230607
DTSTAMP:20260422T024002
CREATED:20230202T101403Z
LAST-MODIFIED:20230607T073319Z
UID:2395-1675123200-1686095999@www.goees.fr
SUMMARY:Communiqué de presse du 31 janvier 2023
DESCRIPTION:Communiqué du GOEES du 31 janvier 2023\nLe GOEES dénonce l’injuste réforme Macron-Borne\nLe GOEES\, Groupement d’Employeurs de l’Économie Sociale et Solidaire\, dont les adhérents\, CSE\, associations et coopératives revendiquent leur place au sein du mouvement social\, ne peut que condamner la casse Macron-Borne des retraites. Afin de dégager de nouvelles ressources pour le financement des grandes entreprises et le service de nouveaux dividendes aux actionnaires\, des millions de salariés vont être confrontés à de nouvelles difficultés. Le report de l’âge légal de départ\, comme l’allongement du nombre de trimestres\, injustifiés au regard des études sur l’équilibre des compte sociaux\, vont au contraire grever ceux-ci par plus de temps de chômage pour les seniors et une dégradation de la santé de ceux qui accèderont à la retraite. \n  \nLe GOEES\, dans la logique de sa condamnation de la loi dite Travail et des ordonnances qui suivirent\, affirme son attachement au respect du dialogue social\, bafoué lors de la préparation de ce texte et se tient aux côtés des organisations syndicales unanimes dans la condamnation de ce texte nocif\, pour les salariés\, les solidarités et la démocratie sociale. \n  \nPar Jean-Philippe MILESY \nConseil d’administration du GOEES \n  \nVersion téléchargeable \n 
URL:https://www.goees.fr/event/communique-de-presse/
ATTACH;FMTTYPE=image/png:https://www.goees.fr/wp-content/uploads/2021/02/GOEESLogo-e1614351020453.png
END:VEVENT
END:VCALENDAR