BEGIN:VCALENDAR
VERSION:2.0
PRODID:-//GOEES - ECPv6.15.20//NONSGML v1.0//EN
CALSCALE:GREGORIAN
METHOD:PUBLISH
X-WR-CALNAME:GOEES
X-ORIGINAL-URL:https://www.goees.fr
X-WR-CALDESC:Évènements pour GOEES
REFRESH-INTERVAL;VALUE=DURATION:PT1H
X-Robots-Tag:noindex
X-PUBLISHED-TTL:PT1H
BEGIN:VTIMEZONE
TZID:UTC
BEGIN:STANDARD
TZOFFSETFROM:+0000
TZOFFSETTO:+0000
TZNAME:UTC
DTSTART:20220101T000000
END:STANDARD
END:VTIMEZONE
BEGIN:VEVENT
DTSTART;VALUE=DATE:20231002
DTEND;VALUE=DATE:20241101
DTSTAMP:20260422T024627
CREATED:20211012T181649Z
LAST-MODIFIED:20231002T121214Z
UID:2229-1696204800-1730419199@www.goees.fr
SUMMARY:Le Comité Central du Groupe Public Ferroviaire (CCGPF) recrute
DESCRIPTION:  \nLe Comité Central du Groupe Public Ferroviaire (CCGPF)\, organisme de l’économie sociale et solidaire au service des cheminots actifs et retraités recherche : \n  \n2 Directeurs(trices) de villages de vacances \nContrat à durée indéterminée (CDI) – 3026€ bruts mensuels + gratification de fin d’année et prime de vacances selon conditions fixées par la convention collective soit 39.5k€ bruts annuels – Statut de cadre forfaitisé. \n  \nMissions \n Dans le cadre de missions saisonnières ou en remplacement du directeur ou de la directrice titulaire\, vous serez chargé.e des missions principales suivantes : \n\nAssurer l’exploitation du village de vacances dans le cadre des directives et des procédures en vigueur au CCGPF\nParticiper à l’élaboration et/au suivi du budget du village\, en lien étroit avec les responsables du service ; analyser les résultats par rapport aux prévisions budgétaires et proposer\, le cas échéant\, des mesures correctives\nAssurer la responsabilité de la gestion\, de l’administration et de l’animation du village\nReprésenter le CCGPF auprès des vacanciers\, des administrations et autres tiers locaux\nDiriger et animer l’ensemble des personnels placés sous votre responsabilité.\n\nVous assurerez ces fonctions sur l’ensemble des villages de vacances du CCGPF. \nVous pourrez également être amené.e à travailler au siège pour prendre en charge des missions ponctuelles. \n  \nCompétences et qualités professionnelles \n  \n\nBonnes connaissances en gestion\nCapacité de management\nTrès bonne connaissance de la restauration\nTrès bonnes capacités relationnelles\nSens du service\nAutonomie et capacité d’adaptation\nMaîtrise de l’outil informatique\nPermis de conduire\n\n  \nFormation et expérience \n  \n\nFormation de niveau I de l’éducation nationale.\nLe (la) candidat(e) aura une expérience professionnelle d’au moins 5 années dans un poste de direction exercé au sein de villages de vacances familiales comportant notamment des prestations de restauration.\n\n  \n> Candidatures (CV + lettre de motivation) à transmettre par mail : \nrecrutccgpf@ccgpfcheminots.com \n 
URL:https://www.goees.fr/event/le-comite-central-du-groupe-public-ferroviaire-ccgpf-recrute-3/
ATTACH;FMTTYPE=image/png:https://www.goees.fr/wp-content/uploads/2021/06/offre-demploi-e1634062287550.png
END:VEVENT
BEGIN:VEVENT
DTSTART;TZID=UTC:20240914T123000
DTEND;TZID=UTC:20240914T133000
DTSTAMP:20260422T024627
CREATED:20240909T151715Z
LAST-MODIFIED:20240910T065504Z
UID:2591-1726317000-1726320600@www.goees.fr
SUMMARY:Le Tourisme Social un bien commun à défendre !
DESCRIPTION:Débat du GOEES : Le tourisme social\, un bien commun à défendre \nSAMEDI 14 septembre de 12h30 à 13h30 \nAu Village des Territoires Solidaires de la Fête de l’Humanité \nLa crise du pouvoir d’achat et le creusement des inégalités affectent gravement et durablement l’exercice du droit aux vacances. \nSelon des critères\, pourtant très minimes quant à la durée\, l’Observatoire des inégalités signale que plus de 40% des Français ne partent pas en vacances (le chiffre d’août 2024 donnant plus de 53% pour les ouvriers et leurs familles). Parmi les publics les plus touchés les enfants et en priorité ceux des familles monoparentales. \n  \nMalgré cela le tourisme social qui a vocation à assurer le droit aux vacances notamment des plus défavorisés connaît sinon une crise du moins de graves difficultés. \nModernisation et gestion des installations\, mais surtout difficultés de recrutement de personnels qualifiés et d’encadrants\, affectent les organismes du tourisme social en butte à la concurrence des structures commerciales au prix d’un dumping sauvage. \nDans ces conditions\, les dispositifs sociaux de droit au départ\, comme les efforts consentis sur le contenu social et éducatif des établissements du tourisme social sont\, à tout le moins\, affectés. \nAssociations\, CSE\, organisations syndicales sont en première ligne du combat pour tourisme social. \nElles en débattront\, samedi 14 septembre\, à 12h30\, dans le cadre du Village des Territoires Solidaires de la Fête de l’Humanité\, à l’invitation du Groupement des Organismes Employeurs de l’Économie Sociale. \n  \nAvec la participation de : \n\nSylvie Desenne\, vice-présidente du GOEES\nLaurent Brun\, administrateur de la CGT\nMichelle Demessine\, présidente de l’Union Nationale des Associations de Tourisme (UNAT)\, ancienne ministre\nDébat animé par Jean Philippe Milesy
URL:https://www.goees.fr/event/le-tourisme-social-un-bien-commun-a-defendre/
LOCATION:Base 217 – Le Plessis-Pâté
ATTACH;FMTTYPE=image/png:https://www.goees.fr/wp-content/uploads/2024/09/Invitation-debat.png
END:VEVENT
END:VCALENDAR