BEGIN:VCALENDAR
VERSION:2.0
PRODID:-//GOEES - ECPv6.15.20//NONSGML v1.0//EN
CALSCALE:GREGORIAN
METHOD:PUBLISH
X-WR-CALNAME:GOEES
X-ORIGINAL-URL:https://www.goees.fr
X-WR-CALDESC:Évènements pour GOEES
REFRESH-INTERVAL;VALUE=DURATION:PT1H
X-Robots-Tag:noindex
X-PUBLISHED-TTL:PT1H
BEGIN:VTIMEZONE
TZID:UTC
BEGIN:STANDARD
TZOFFSETFROM:+0000
TZOFFSETTO:+0000
TZNAME:UTC
DTSTART:20200101T000000
END:STANDARD
END:VTIMEZONE
BEGIN:VEVENT
DTSTART;TZID=UTC:20210211T100000
DTEND;TZID=UTC:20210211T123000
DTSTAMP:20260423T102300
CREATED:20201217T103525Z
LAST-MODIFIED:20210209T154815Z
UID:1366-1613037600-1613046600@www.goees.fr
SUMMARY:AG du GOEES 2020
DESCRIPTION:L’AG du GOEES 2020 se tiendra le 11 février 2021. Venez nombreux!
URL:https://www.goees.fr/event/ag-du-goees-2020/
LOCATION:Espace Niemeyer\, 2 place du Colonel Fabien\, Paris\, 75019\, France
END:VEVENT
END:VCALENDAR